BEGIN:VCALENDAR
VERSION:2.0
BEGIN:VEVENT
URL:https://milkbar.oztix.com.au/outlet/event/7c711de4-2a1d-41b7-b459-f4f09cbbda8f
DTSTART:20260508T110000Z
DTEND:20260508T110000Z
SUMMARY:THE DEATH TIL LATE CLUB
DESCRIPTION:Event details: https://milkbar.oztix.com.au/outlet/event/7c711de4-2a1d-41b7-b459-f4f09cbbda8f
LOCATION:Milk Bar (Inglewood, WA)
END:VEVENT
END:VCALENDAR